BEGIN:VCALENDAR
VERSION:2.0
PRODID:-//Children&#039;s Wishes - ECPv6.15.20//NONSGML v1.0//EN
CALSCALE:GREGORIAN
METHOD:PUBLISH
X-WR-CALNAME:Children&#039;s Wishes
X-ORIGINAL-URL:https://childrens-wishes.org
X-WR-CALDESC:Events for Children&#039;s Wishes
REFRESH-INTERVAL;VALUE=DURATION:PT1H
X-Robots-Tag:noindex
X-PUBLISHED-TTL:PT1H
BEGIN:VTIMEZONE
TZID:America/New_York
BEGIN:DAYLIGHT
TZOFFSETFROM:-0500
TZOFFSETTO:-0400
TZNAME:EDT
DTSTART:20250309T070000
END:DAYLIGHT
BEGIN:STANDARD
TZOFFSETFROM:-0400
TZOFFSETTO:-0500
TZNAME:EST
DTSTART:20251102T060000
END:STANDARD
BEGIN:DAYLIGHT
TZOFFSETFROM:-0500
TZOFFSETTO:-0400
TZNAME:EDT
DTSTART:20260308T070000
END:DAYLIGHT
BEGIN:STANDARD
TZOFFSETFROM:-0400
TZOFFSETTO:-0500
TZNAME:EST
DTSTART:20261101T060000
END:STANDARD
BEGIN:DAYLIGHT
TZOFFSETFROM:-0500
TZOFFSETTO:-0400
TZNAME:EDT
DTSTART:20270314T070000
END:DAYLIGHT
BEGIN:STANDARD
TZOFFSETFROM:-0400
TZOFFSETTO:-0500
TZNAME:EST
DTSTART:20271107T060000
END:STANDARD
END:VTIMEZONE
BEGIN:VEVENT
DTSTART;VALUE=DATE:20260423
DTEND;VALUE=DATE:20260424
DTSTAMP:20260423T024837
CREATED:20260102T004955Z
LAST-MODIFIED:20260123T234043Z
UID:245344-1776902400-1776988799@childrens-wishes.org
SUMMARY:Nine and Dine RI Tournament Series
DESCRIPTION:
URL:https://childrens-wishes.org/event/nine-and-dine-ri-tournament-series/
LOCATION:Alpine Country Club\, 251 Pippin Orchard Rd\, Cranston\, RI\, 02921\, United States
CATEGORIES:Events
ATTACH;FMTTYPE=image/jpeg:https://childrens-wishes.org/wp-content/uploads/2025/03/CW_NineAndDine_logo_FullColor.jpg
END:VEVENT
END:VCALENDAR