BEGIN:VCALENDAR
VERSION:2.0
PRODID:-//Children&#039;s Wishes - ECPv6.15.20//NONSGML v1.0//EN
CALSCALE:GREGORIAN
METHOD:PUBLISH
X-WR-CALNAME:Children&#039;s Wishes
X-ORIGINAL-URL:https://childrens-wishes.org
X-WR-CALDESC:Events for Children&#039;s Wishes
REFRESH-INTERVAL;VALUE=DURATION:PT1H
X-Robots-Tag:noindex
X-PUBLISHED-TTL:PT1H
BEGIN:VTIMEZONE
TZID:America/New_York
BEGIN:DAYLIGHT
TZOFFSETFROM:-0500
TZOFFSETTO:-0400
TZNAME:EDT
DTSTART:20250309T070000
END:DAYLIGHT
BEGIN:STANDARD
TZOFFSETFROM:-0400
TZOFFSETTO:-0500
TZNAME:EST
DTSTART:20251102T060000
END:STANDARD
BEGIN:DAYLIGHT
TZOFFSETFROM:-0500
TZOFFSETTO:-0400
TZNAME:EDT
DTSTART:20260308T070000
END:DAYLIGHT
BEGIN:STANDARD
TZOFFSETFROM:-0400
TZOFFSETTO:-0500
TZNAME:EST
DTSTART:20261101T060000
END:STANDARD
BEGIN:DAYLIGHT
TZOFFSETFROM:-0500
TZOFFSETTO:-0400
TZNAME:EDT
DTSTART:20270314T070000
END:DAYLIGHT
BEGIN:STANDARD
TZOFFSETFROM:-0400
TZOFFSETTO:-0500
TZNAME:EST
DTSTART:20271107T060000
END:STANDARD
END:VTIMEZONE
BEGIN:VEVENT
DTSTART;TZID=America/New_York:20260207T120000
DTEND;TZID=America/New_York:20260207T180000
DTSTAMP:20260423T045855
CREATED:20260118T005940Z
LAST-MODIFIED:20260118T005940Z
UID:247406-1770465600-1770487200@childrens-wishes.org
SUMMARY:Crafts & Valentine Sweet Treats
DESCRIPTION:Stroll in between 12:00PM and 6:00PM
URL:https://childrens-wishes.org/event/crafts-valentine-sweet-treats/
LOCATION:Children’s Wishes\, 2364 Post Road\, Warwick\, RI\, 02886\, United States
CATEGORIES:Events,Family Programming
END:VEVENT
BEGIN:VEVENT
DTSTART;TZID=America/New_York:20260227T180000
DTEND;TZID=America/New_York:20260227T210000
DTSTAMP:20260423T045855
CREATED:20260118T010351Z
LAST-MODIFIED:20260118T010351Z
UID:247408-1772215200-1772226000@childrens-wishes.org
SUMMARY:Wish on Tap - Dad's Night Out
DESCRIPTION:
URL:https://childrens-wishes.org/event/wish-on-tap-dads-night-out/
LOCATION:Narragansett Brewery\, 271 Tockwotten St\, Providence\, RI\, 02903\, United States
CATEGORIES:Events,Family Programming
END:VEVENT
END:VCALENDAR