BEGIN:VCALENDAR
VERSION:2.0
PRODID:-//Children&#039;s Wishes - ECPv6.15.20//NONSGML v1.0//EN
CALSCALE:GREGORIAN
METHOD:PUBLISH
X-WR-CALNAME:Children&#039;s Wishes
X-ORIGINAL-URL:https://childrens-wishes.org
X-WR-CALDESC:Events for Children&#039;s Wishes
REFRESH-INTERVAL;VALUE=DURATION:PT1H
X-Robots-Tag:noindex
X-PUBLISHED-TTL:PT1H
BEGIN:VTIMEZONE
TZID:America/New_York
BEGIN:DAYLIGHT
TZOFFSETFROM:-0500
TZOFFSETTO:-0400
TZNAME:EDT
DTSTART:20220313T070000
END:DAYLIGHT
BEGIN:STANDARD
TZOFFSETFROM:-0400
TZOFFSETTO:-0500
TZNAME:EST
DTSTART:20221106T060000
END:STANDARD
BEGIN:DAYLIGHT
TZOFFSETFROM:-0500
TZOFFSETTO:-0400
TZNAME:EDT
DTSTART:20230312T070000
END:DAYLIGHT
BEGIN:STANDARD
TZOFFSETFROM:-0400
TZOFFSETTO:-0500
TZNAME:EST
DTSTART:20231105T060000
END:STANDARD
BEGIN:DAYLIGHT
TZOFFSETFROM:-0500
TZOFFSETTO:-0400
TZNAME:EDT
DTSTART:20240310T070000
END:DAYLIGHT
BEGIN:STANDARD
TZOFFSETFROM:-0400
TZOFFSETTO:-0500
TZNAME:EST
DTSTART:20241103T060000
END:STANDARD
BEGIN:DAYLIGHT
TZOFFSETFROM:-0500
TZOFFSETTO:-0400
TZNAME:EDT
DTSTART:20250309T070000
END:DAYLIGHT
BEGIN:STANDARD
TZOFFSETFROM:-0400
TZOFFSETTO:-0500
TZNAME:EST
DTSTART:20251102T060000
END:STANDARD
BEGIN:DAYLIGHT
TZOFFSETFROM:-0500
TZOFFSETTO:-0400
TZNAME:EDT
DTSTART:20260308T070000
END:DAYLIGHT
BEGIN:STANDARD
TZOFFSETFROM:-0400
TZOFFSETTO:-0500
TZNAME:EST
DTSTART:20261101T060000
END:STANDARD
END:VTIMEZONE
BEGIN:VEVENT
DTSTART;VALUE=DATE:20251024
DTEND;VALUE=DATE:20251025
DTSTAMP:20260423T072400
CREATED:20250502T232822Z
LAST-MODIFIED:20250502T232914Z
UID:246720-1761264000-1761350399@childrens-wishes.org
SUMMARY:Wishes Brew Fest
DESCRIPTION:
URL:https://childrens-wishes.org/event/wishes-brew-fest/
LOCATION:RI
CATEGORIES:Events
END:VEVENT
BEGIN:VEVENT
DTSTART;TZID=America/New_York:20231014T040000
DTEND;TZID=America/New_York:20231014T130000
DTSTAMP:20260423T072400
CREATED:20230124T081317Z
LAST-MODIFIED:20250324T232808Z
UID:244158-1697256000-1697288400@childrens-wishes.org
SUMMARY:Avery Anne Coupe Memorial Co-ed Tournament Day 2
DESCRIPTION:Day 2: Softball Tournament
URL:https://childrens-wishes.org/event/avery-anne-coupe-memorial-co-ed-tournament-day-2/
LOCATION:RI
CATEGORIES:Family Programming
END:VEVENT
BEGIN:VEVENT
DTSTART;TZID=America/New_York:20231013T150000
DTEND;TZID=America/New_York:20231013T173000
DTSTAMP:20260423T072400
CREATED:20230124T081212Z
LAST-MODIFIED:20250324T232840Z
UID:244157-1697209200-1697218200@childrens-wishes.org
SUMMARY:Avery Anne Coupe Memorial Co-ed Tournament Day 1
DESCRIPTION:Day 1: Home Run Derby
URL:https://childrens-wishes.org/event/avery-anne-coupe-memorial-co-ed-tournament-day-1/
LOCATION:RI
CATEGORIES:Family Programming
END:VEVENT
BEGIN:VEVENT
DTSTART;TZID=America/New_York:20230316T110000
DTEND;TZID=America/New_York:20230316T140000
DTSTAMP:20260423T072400
CREATED:20230124T060717Z
LAST-MODIFIED:20230124T060838Z
UID:244132-1678964400-1678975200@childrens-wishes.org
SUMMARY:Annual Blood Drive and Bone Marrow Registration
DESCRIPTION:
URL:https://childrens-wishes.org/event/annual-blood-drive-and-bone-marrow-registration/
LOCATION:Children’s Wishes\, 2364 Post Road\, Warwick\, RI\, 02886\, United States
CATEGORIES:Events
END:VEVENT
END:VCALENDAR