BEGIN:VCALENDAR
VERSION:2.0
PRODID:-//Children&#039;s Wishes - ECPv6.15.20//NONSGML v1.0//EN
CALSCALE:GREGORIAN
METHOD:PUBLISH
X-WR-CALNAME:Children&#039;s Wishes
X-ORIGINAL-URL:https://childrens-wishes.org
X-WR-CALDESC:Events for Children&#039;s Wishes
REFRESH-INTERVAL;VALUE=DURATION:PT1H
X-Robots-Tag:noindex
X-PUBLISHED-TTL:PT1H
BEGIN:VTIMEZONE
TZID:America/New_York
BEGIN:DAYLIGHT
TZOFFSETFROM:-0500
TZOFFSETTO:-0400
TZNAME:EDT
DTSTART:20250309T070000
END:DAYLIGHT
BEGIN:STANDARD
TZOFFSETFROM:-0400
TZOFFSETTO:-0500
TZNAME:EST
DTSTART:20251102T060000
END:STANDARD
BEGIN:DAYLIGHT
TZOFFSETFROM:-0500
TZOFFSETTO:-0400
TZNAME:EDT
DTSTART:20260308T070000
END:DAYLIGHT
BEGIN:STANDARD
TZOFFSETFROM:-0400
TZOFFSETTO:-0500
TZNAME:EST
DTSTART:20261101T060000
END:STANDARD
BEGIN:DAYLIGHT
TZOFFSETFROM:-0500
TZOFFSETTO:-0400
TZNAME:EDT
DTSTART:20270314T070000
END:DAYLIGHT
BEGIN:STANDARD
TZOFFSETFROM:-0400
TZOFFSETTO:-0500
TZNAME:EST
DTSTART:20271107T060000
END:STANDARD
END:VTIMEZONE
BEGIN:VEVENT
DTSTART;TZID=America/New_York:20260913T150000
DTEND;TZID=America/New_York:20260913T190000
DTSTAMP:20260423T054452
CREATED:20250626T233135Z
LAST-MODIFIED:20260212T005624Z
UID:247095-1789311600-1789326000@childrens-wishes.org
SUMMARY:All Charity Polo Match
DESCRIPTION:The Newport International Polo Series 9th Annual All Charity Day on Sunday\, September 13\, will be a fun afternoon for supporters of dozens of charities to enjoy exciting polo action and a festive outdoor experience to benefit local organizations.   \nGates open at 3:00 p.m.; the classic 6-chukker match will begin at 5:00 p.m. For each ticket sold through the link above/below\, 100% of admission tickets will benefit Children’s Wishes. Ticket price of $50 includes the Children’s Wishes  tailgate party with food and drinks prior to the match!
URL:https://childrens-wishes.org/event/all-charity-polo-match/
LOCATION:Newport International Polo Grounds\, 250 Linden Lane\, Portsmouth\, RI\, 02871\, United States
CATEGORIES:Events
ATTACH;FMTTYPE=image/png:https://childrens-wishes.org/wp-content/uploads/2025/06/Newport-International-Polo-Series-Logo-copy.png
END:VEVENT
BEGIN:VEVENT
DTSTART;TZID=America/New_York:20261009T180000
DTEND;TZID=America/New_York:20261009T230000
DTSTAMP:20260423T054452
CREATED:20260109T081028Z
LAST-MODIFIED:20260128T230023Z
UID:244156-1791568800-1791586800@childrens-wishes.org
SUMMARY:Passport Gala
DESCRIPTION:The Annual Passport Gala is Children’s Wishes’ signature fundraising event\, bringing together supporters from across Rhode Island for an unforgettable evening of celebration and purpose. This elegant gala features dinner\, entertainment\, and a thoughtfully curated theme that invites guests to “travel” the world while supporting a meaningful cause. Proceeds from the evening directly benefit Children’s Wishes’ mission of granting heartfelt wishes to children facing serious medical challenges\, helping to create joy\, hope\, and lasting memories for children and their families throughout our community.
URL:https://childrens-wishes.org/event/passport-gala/
LOCATION:Rhodes on the Pawtuxet\, 20 rhodes place\, cranston\, RI\, 02905\, United States
CATEGORIES:Events
ATTACH;FMTTYPE=image/png:https://childrens-wishes.org/wp-content/uploads/2026/01/2026-Passport-gala-Logo-Small.png
END:VEVENT
END:VCALENDAR