BEGIN:VCALENDAR
VERSION:2.0
PRODID:-//Children&#039;s Wishes - ECPv6.15.20//NONSGML v1.0//EN
CALSCALE:GREGORIAN
METHOD:PUBLISH
X-WR-CALNAME:Children&#039;s Wishes
X-ORIGINAL-URL:https://childrens-wishes.org
X-WR-CALDESC:Events for Children&#039;s Wishes
REFRESH-INTERVAL;VALUE=DURATION:PT1H
X-Robots-Tag:noindex
X-PUBLISHED-TTL:PT1H
BEGIN:VTIMEZONE
TZID:America/New_York
BEGIN:DAYLIGHT
TZOFFSETFROM:-0500
TZOFFSETTO:-0400
TZNAME:EDT
DTSTART:20250309T070000
END:DAYLIGHT
BEGIN:STANDARD
TZOFFSETFROM:-0400
TZOFFSETTO:-0500
TZNAME:EST
DTSTART:20251102T060000
END:STANDARD
BEGIN:DAYLIGHT
TZOFFSETFROM:-0500
TZOFFSETTO:-0400
TZNAME:EDT
DTSTART:20260308T070000
END:DAYLIGHT
BEGIN:STANDARD
TZOFFSETFROM:-0400
TZOFFSETTO:-0500
TZNAME:EST
DTSTART:20261101T060000
END:STANDARD
BEGIN:DAYLIGHT
TZOFFSETFROM:-0500
TZOFFSETTO:-0400
TZNAME:EDT
DTSTART:20270314T070000
END:DAYLIGHT
BEGIN:STANDARD
TZOFFSETFROM:-0400
TZOFFSETTO:-0500
TZNAME:EST
DTSTART:20271107T060000
END:STANDARD
END:VTIMEZONE
BEGIN:VEVENT
DTSTART;TZID=America/New_York:20260611T180000
DTEND;TZID=America/New_York:20260611T210000
DTSTAMP:20260422T233634
CREATED:20260111T080706Z
LAST-MODIFIED:20260128T233932Z
UID:244153-1781200800-1781211600@childrens-wishes.org
SUMMARY:Wishes by the Sea
DESCRIPTION:Join us for our “Wishes By the Sea” at the Matunuck Community Association\, South Kingstown\, RI. \n\nEnjoy local restaurant tastings\nMusic\nRaffle and Auction\n21 and older event\n$100/person\n\nNo paper tickets issued. Tickets will be held at check-in. \n*All sponsorship levels will receive pre-event and event night recognition on website\, social media and press releases.
URL:https://childrens-wishes.org/event/wishes-by-the-sea/
LOCATION:Matunuck Community Association\, 619 Matunuck Beach Rd\, Wakefield\, 02879\, United States
CATEGORIES:Events
ATTACH;FMTTYPE=image/png:https://childrens-wishes.org/wp-content/uploads/2026/01/2026-WBTS-logo-Small.png
END:VEVENT
BEGIN:VEVENT
DTSTART;TZID=America/New_York:20260614T090000
DTEND;TZID=America/New_York:20260614T140000
DTSTAMP:20260422T233634
CREATED:20260114T080922Z
LAST-MODIFIED:20260306T172337Z
UID:244155-1781427600-1781445600@childrens-wishes.org
SUMMARY:Isaiah's Classic Wheels for Wishes
DESCRIPTION:Trophies awarded to the top 50 classics\, top 10 2000-2024\, top 10 Exotics and top 6 specialty / emergency vehicles as voted by participants. Also Best of Show and People’s Choice! Great Give-A-Ways\, Door Prizes and Raffle Prizes\, including a 50/50 Raffle! All Isaiah’s Memorial Classic Wheels for Wishes Car Show proceeds benefit: Children’s Wishes—granting the Wishes of children with life-threatening medical conditions. \nRegistration from 9 AM to 12 PM \nTrophies awarded at 2:00 PM  \n$20.00 entry fee\, Spectators free \nGoody bags to all entries!
URL:https://childrens-wishes.org/event/isaiahs-classic-wheels-for-wishes/
LOCATION:Mishnock Barn\, 200 Mishnock Rd\, West Greenwich\, RI\, 02817\, United States
CATEGORIES:Events
ATTACH;FMTTYPE=image/jpeg:https://childrens-wishes.org/wp-content/uploads/2025/02/Isaiahs-Classic-Wheels-for-Wishes-IMG-3187.jpg
END:VEVENT
END:VCALENDAR